Workbook

Sheet Sheet1
A1: Jayhawk Collegiate Challenge - Women
A2: Standings after 16 Baker Games & 5 Team Games
A4: Varsity
A5: 1 | B5: Wichita State University V | C5: 7575
A6: 2 | B6: Ottawa University (KS) V | C6: 7546
A7: 3 | B7: Morningside University V | C7: 7040
A8: 4 | B8: Baker University V | C8: 6852
A9: 5 | B9: Hastings College V | C9: 6812
A10: 6 | B10: Columbia College V | C10: 6625
A11: 7 | B11: Barton Community College V | C11: 6570
A12: 8 | B12: William Woods University V | C12: 6568
A13: 9 | B13: Southern Nazarene University V | C13: 6566
A14: 10 | B14: Peru State College V | C14: 6546
A15: 11 | B15: Avila University V | C15: 6340
A16: 12 | B16: Kansas Wesleyan University V | C16: 6214
... A19: 15 | B19: Kansas ,University Of V | C19: 5753
A21: Junior Varsity
A22: 1 | B22: Wichita State University JV1 | C22: 6835
A23: 2 | B23: Ottawa University (KS) JV1 | C23: 6270
A24: 3 | B24: Baker University JV1 | C24: 6187
A25: 4 | B25: Morningside University JV1 | C25: 6132
A26: 5 | B26: Barton Community College JV1 | C26: 5728
A27: 6 | B27: Hastings College JV1 | C27: 5432

Sheet Varsity Bracket
A1: Varsity Womens Bracket
A2: Lane | B2: Pos | C2: Team | G2: Lane | S2: Round 1 Scores
A3: 33 | B3: 1 | C3: =CONCATENATE(INDEX(Sheet1!$B$5:$B$19,MATCH('Varsity Bracket'!B3,Sheet1!$A$5:$A$19,0))," - ",INDEX($AA$4:$AA$12,MATCH(B3,$S$4:$S$12,0))) -> Wichita State University V - 748 | S3: Pos | T3: Team | W3: Game 1 | X3: Game 2 | Y3: Game 3 | Z3: Game 4 | AA3: Total | AB3: Rank
S4: 1 | T4: =INDEX(Sheet1!$B$5:$B$19,MATCH('Varsity Bracket'!S4,Sheet1!$A$5:$A$19,0)) -> Wichita State University V | W4: 223 | X4: 189 | Y4: 181 | Z4: 155 | AA4: =SUM(W4:Z4) -> 748 | AB4: =RANK(AA4,$AA$4:$AA$7) -> 1
A5: 34 | B5: 8 | C5: =CONCATENATE(INDEX(Sheet1!$B$5:$B$19,MATCH('Varsity Bracket'!B5,Sheet1!$A$5:$A$19,0))," - ",INDEX($AA$4:$AA$12,MATCH(B5,$S$4:$S$12,0))) -> William Woods University V - 675 | G5: 27 | H5: =IF(SUM($W$4:$Z$7)>0,CONCATENATE(INDEX($T$4:$T$7,MATCH(1,$AB$4:$AB$7,0))," - ",INDEX($AA$4:$AA$7,MATCH(1,$AB$4:$AB$7,0))),"") -> Wichita State University V - 748 | S5: 8 | T5: =INDEX(Sheet1!$B$5:$B$19,MATCH('Varsity Bracket'!S5,Sheet1!$A$5:$A$19,0)) -> William Woods University V | W5: 196 | X5: 141 | Y5: 164 | Z5: 174 | AA5: =SUM(W5:Z5) -> 675 | AB5: =RANK(AA5,$AA$4:$AA$7) -> 3
S6: 4 | T6: =INDEX(Sheet1!$B$5:$B$19,MATCH('Varsity Bracket'!S6,Sheet1!$A$5:$A$19,0)) -> Baker University V | W6: 148 | X6: 174 | Y6: 166 | Z6: 202 | AA6: =SUM(W6:Z6) -> 690 | AB6: =RANK(AA6,$AA$4:$AA$7) -> 2
A7: 35 | B7: 4 | C7: =CONCATENATE(INDEX(Sheet1!$B$5:$B$19,MATCH('Varsity Bracket'!B7,Sheet1!$A$5:$A$19,0))," - ",INDEX($AA$4:$AA$12,MATCH(B7,$S$4:$S$12,0))) -> Baker University V - 690 | G7: 28 | H7: =IF(SUM($W$4:$Z$7)>0,CONCATENATE(INDEX($T$4:$T$7,MATCH(2,$AB$4:$AB$7,0))," - ",INDEX($AA$4:$AA$7,MATCH(2,$AB$4:$AB$7,0))),"") -> Baker University V - 690 | S7: 5 | T7: =INDEX(Sheet1!$B$5:$B$19,MATCH('Varsity Bracket'!S7,Sheet1!$A$5:$A$19,0)) -> Hastings College V | W7: 138 | X7: 157 | Y7: 167 | Z7: 156 | AA7: =SUM(W7:Z7) -> 618 | AB7: =RANK(AA7,$AA$4:$AA$7) -> 4
A9: 36 | B9: 5 | C9: =CONCATENATE(INDEX(Sheet1!$B$5:$B$19,MATCH('Varsity Bracket'!B9,Sheet1!$A$5:$A$19,0))," - ",INDEX($AA$4:$AA$12,MATCH(B9,$S$4:$S$12,0))) -> Hastings College V - 618 | S9: 3 | T9: =INDEX(Sheet1!$B$5:$B$19,MATCH('Varsity Bracket'!S9,Sheet1!$A$5:$A$19,0)) -> Morningside University V | W9: 236 | X9: 178 | Y9: 161 | Z9: 130 | AA9: =SUM(W9:Z9) -> 705 | AB9: =RANK(AA9,$AA$9:$AA$12) -> 2
S10: 6 | T10: =INDEX(Sheet1!$B$5:$B$19,MATCH('Varsity Bracket'!S10,Sheet1!$A$5:$A$19,0)) -> Columbia College V | W10: 175 | X10: 166 | Y10: 136 | Z10: 201 | AA10: =SUM(W10:Z10) -> 678 | AB10: =RANK(AA10,$AA$9:$AA$12) -> 3
L11: =IF(SUM($W$18:$Z$21)>0,CONCATENATE(INDEX($T$18:$T$21,MATCH(1,$AB$18:$AB$21,0))," - ",INDEX($AA$18:$AA$21,MATCH(1,$AB$18:$AB$21,0))),"") -> Wichita State University V - 782 | S11: 2 | T11: =INDEX(Sheet1!$B$5:$B$19,MATCH('Varsity Bracket'!S11,Sheet1!$A$5:$A$19,0)) -> Ottawa University (KS) V | W11: 164 | X11: 170 | Y11: 181 | Z11: 233 | AA11: =SUM(W11:Z11) -> 748 | AB11: =RANK(AA11,$AA$9:$AA$12) -> 1
S12: 7 | T12: =INDEX(Sheet1!$B$5:$B$19,MATCH('Varsity Bracket'!S12,Sheet1!$A$5:$A$19,0)) -> Barton Community College V | W12: 123 | X12: 133 | Y12: 154 | Z12: 167 | AA12: =SUM(W12:Z12) -> 577 | AB12: =RANK(AA12,$AA$9:$AA$12) -> 4
A13: 37 | B13: 3 | C13: =CONCATENATE(INDEX(Sheet1!$B$5:$B$19,MATCH('Varsity Bracket'!B13,Sheet1!$A$5:$A$19,0))," - ",INDEX($AA$4:$AA$12,MATCH(B13,$S$4:$S$12,0))) -> Morningside University V - 705
A15: 38 | B15: 6 | C15: =CONCATENATE(INDEX(Sheet1!$B$5:$B$19,MATCH('Varsity Bracket'!B15,Sheet1!$A$5:$A$19,0))," - ",INDEX($AA$4:$AA$12,MATCH(B15,$S$4:$S$12,0))) -> Columbia College V - 678 | G15: 29 | H15: =IF(SUM($W$9:$Z$12)>0,CONCATENATE(INDEX($T$9:$T$12,MATCH(1,$AB$9:$AB$12,0))," - ",INDEX($AA$9:$AA$12,MATCH(1,$AB$9:$AB$12,0))),"") -> Ottawa University (KS) V - 748
S16: Round 2 Scores
A17: 39 | B17: 2 | C17: =CONCATENATE(INDEX(Sheet1!$B$5:$B$19,MATCH('Varsity Bracket'!B17,Sheet1!$A$5:$A$19,0))," - ",INDEX($AA$4:$AA$12,MATCH(B17,$S$4:$S$12,0))) -> Ottawa University (KS) V - 748 | G17: 30 | H17: =IF(SUM($W$9:$Z$12)>0,CONCATENATE(INDEX($T$9:$T$12,MATCH(2,$AB$9:$AB$12,0))," - ",INDEX($AA$9:$AA$12,MATCH(2,$AB$9:$AB$12,0))),"") -> Morningside University V - 705 | S17: Pos | T17: Team | W17: Game 1 | X17: Game 2 | Y17: Game 3 | Z17: Game 4 | AA17: Total | AB17: Rank
S18: 1 | T18: =INDEX($T$4:$T$7,MATCH(1,$AB$4:$AB$7,0)) -> Wichita State University V | W18: 202 | X18: 153 | Y18: 173 | Z18: 254 | AA18: =SUM(W18:Z18) -> 782 | AB18: =RANK(AA18,$AA$18:$AA$21) -> 1
A19: 40 | B19: 7 | C19: =CONCATENATE(INDEX(Sheet1!$B$5:$B$19,MATCH('Varsity Bracket'!B19,Sheet1!$A$5:$A$19,0))," - ",INDEX($AA$4:$AA$12,MATCH(B19,$S$4:$S$12,0))) -> Barton Community College V - 577 | S19: 2 | T19: =INDEX($T$4:$T$7,MATCH(2,$AB$4:$AB$7,0)) -> Baker University V | W19: 159 | X19: 156 | Y19: 162 | Z19: 181 | AA19: =SUM(W19:Z19) -> 658 | AB19: =RANK(AA19,$AA$18:$AA$21) -> 3
S20: 1 | T20: =INDEX($T$9:$T$12,MATCH(1,$AB$9:$AB$12,0)) -> Ottawa University (KS) V | W20: 163 | X20: 176 | Y20: 143 | Z20: 176 | AA20: =SUM(W20:Z20) -> 658 | AB20: =RANK(AA20,$AA$18:$AA$21) -> 3
S21: 2 | T21: =INDEX($T$9:$T$12,MATCH(2,$AB$9:$AB$12,0)) -> Morningside University V | W21: 214 | X21: 136 | Y21: 178 | Z21: 207 | AA21: =SUM(W21:Z21) -> 735 | AB21: =RANK(AA21,$AA$18:$AA$21) -> 2

Sheet Junior Varsity Bracket
A1: JV Womens Bracket
A2: Lane | B2: Pos | C2: Team
A3: 19 | B3: 1 | C3: =CONCATENATE(INDEX(Sheet1!$B$22:$B$27,MATCH('Junior Varsity Bracket'!B3,Sheet1!$A$22:$A$27,0))," - ",INDEX($J$18:$J$21,MATCH(B3,$B$18:$B$21,0))) -> Wichita State University JV1 - 668
A5: 20 | B5: 4 | C5: =CONCATENATE(INDEX(Sheet1!$B$22:$B$27,MATCH('Junior Varsity Bracket'!B5,Sheet1!$A$22:$A$27,0))," - ",INDEX($J$18:$J$21,MATCH(B5,$B$18:$B$21,0))) -> Morningside University JV1 - 615
G6: =IF(SUM(F18:I21)>0,INDEX($C$18:$C$21,MATCH(1,K18:K21,0)),"") -> Wichita State University V
A7: 21 | B7: 3 | C7: =CONCATENATE(INDEX(Sheet1!$B$22:$B$27,MATCH('Junior Varsity Bracket'!B7,Sheet1!$A$22:$A$27,0))," - ",INDEX($J$18:$J$21,MATCH(B7,$B$18:$B$21,0))) -> Baker University JV1 - 603
A9: 22 | B9: 2 | C9: =CONCATENATE(INDEX(Sheet1!$B$22:$B$27,MATCH('Junior Varsity Bracket'!B9,Sheet1!$A$22:$A$27,0))," - ",INDEX($J$18:$J$21,MATCH(B9,$B$18:$B$21,0))) -> Ottawa University (KS) JV1 - 651
B16: Round 1 Scores
B17: Pos | C17: Team | F17: Game 1 | G17: Game 2 | H17: Game 3 | I17: Game 4 | J17: Total | K17: Rank
B18: 1 | C18: =INDEX(Sheet1!$B$5:$B$19,MATCH('Junior Varsity Bracket'!B18,Sheet1!$A$5:$A$19,0)) -> Wichita State University V | F18: 175 | G18: 178 | H18: 126 | I18: 189 | J18: =SUM(F18:I18) -> 668 | K18: =RANK(J18,$J$18:$J$21) -> 1
B19: 4 | C19: =INDEX(Sheet1!$B$5:$B$19,MATCH('Junior Varsity Bracket'!B19,Sheet1!$A$5:$A$19,0)) -> Baker University V | F19: 139 | G19: 167 | H19: 152 | I19: 157 | J19: =SUM(F19:I19) -> 615 | K19: =RANK(J19,$J$18:$J$21) -> 3
B20: 3 | C20: =INDEX(Sheet1!$B$5:$B$19,MATCH('Junior Varsity Bracket'!B20,Sheet1!$A$5:$A$19,0)) -> Morningside University V | F20: 143 | G20: 174 | H20: 151 | I20: 135 | J20: =SUM(F20:I20) -> 603 | K20: =RANK(J20,$J$18:$J$21) -> 4
B21: 2 | C21: =INDEX(Sheet1!$B$5:$B$19,MATCH('Junior Varsity Bracket'!B21,Sheet1!$A$5:$A$19,0)) -> Ottawa University (KS) V | F21: 180 | G21: 193 | H21: 148 | I21: 130 | J21: =SUM(F21:I21) -> 651 | K21: =RANK(J21,$J$18:$J$21) -> 2
